BEGIN:VCALENDAR
VERSION:2.0
PRODID:-//Waiuku Zero Waste - ECPv6.15.18//NONSGML v1.0//EN
CALSCALE:GREGORIAN
METHOD:PUBLISH
X-WR-CALNAME:Waiuku Zero Waste
X-ORIGINAL-URL:https://waiukuzerowaste.co.nz
X-WR-CALDESC:Events for Waiuku Zero Waste
REFRESH-INTERVAL;VALUE=DURATION:PT1H
X-Robots-Tag:noindex
X-PUBLISHED-TTL:PT1H
BEGIN:VTIMEZONE
TZID:Pacific/Auckland
BEGIN:STANDARD
TZOFFSETFROM:+1300
TZOFFSETTO:+1200
TZNAME:NZST
DTSTART:20250405T140000
END:STANDARD
BEGIN:DAYLIGHT
TZOFFSETFROM:+1200
TZOFFSETTO:+1300
TZNAME:NZDT
DTSTART:20250927T140000
END:DAYLIGHT
BEGIN:STANDARD
TZOFFSETFROM:+1300
TZOFFSETTO:+1200
TZNAME:NZST
DTSTART:20260404T140000
END:STANDARD
BEGIN:DAYLIGHT
TZOFFSETFROM:+1200
TZOFFSETTO:+1300
TZNAME:NZDT
DTSTART:20260926T140000
END:DAYLIGHT
BEGIN:STANDARD
TZOFFSETFROM:+1300
TZOFFSETTO:+1200
TZNAME:NZST
DTSTART:20270403T140000
END:STANDARD
BEGIN:DAYLIGHT
TZOFFSETFROM:+1200
TZOFFSETTO:+1300
TZNAME:NZDT
DTSTART:20270925T140000
END:DAYLIGHT
END:VTIMEZONE
BEGIN:VEVENT
DTSTART;TZID=Pacific/Auckland:20260420T190000
DTEND;TZID=Pacific/Auckland:20260420T203000
DTSTAMP:20260422T140544
CREATED:20260405T094001Z
LAST-MODIFIED:20260405T094001Z
UID:3818-1776711600-1776717000@waiukuzerowaste.co.nz
SUMMARY:Waiuku's UFO Crafting Circle - Launch
DESCRIPTION:Celebrate community\, connection\, and creativity at the launch of the Waiuku Zero Waste UFO (UnFinished Object) Crafting Circle.\n\n\nThis welcoming space is for anyone with half-finished craft projects waiting patiently at home. Whether you crochet\, knit\, stitch\, weave\, or work on any craft you love\, bring your ‘UFO’ along and enjoy dedicated time to create.\n\n\nCraft alongside like-minded people\, slow down\, and take time out for yourself. No pressure\, no perfection—just connection\, creativity\, and a chance to finish (or happily continue) your project while filling your cup.\n\n\nTea and Coffee provided\nCost: Gold Coin Donation\n\n\n\nThis event will be held monthly on the third Monday of the month.\n\n\n\nThis event is part of EcoFest\, an annual month-long festival taking place 22 March – 22 April. EcoMatters\, Kaipātiki Project\, Beautification Trust and Waiheke Resources Trust are teaming up to collectively showcase all that Tāmaki Makaurau has to offer in the sustainability space. Visit ecofest.org.nz and join us for this event and more!
URL:https://waiukuzerowaste.co.nz/event/waiukus-ufo-crafting-circle-launch/
LOCATION:Waiuku Zero Waste Education Space\, 5 Hosking Place\, Waiuku\, 2123
CATEGORIES:Community Event
ATTACH;FMTTYPE=image/png:https://waiukuzerowaste.co.nz/wp-content/uploads/2026/04/Crafting-circle-facebook-cover.png
ORGANIZER;CN="Waiuku Zero Waste Ltd":MAILTO:admin@waiukuzerowaste.co.nz
END:VEVENT
BEGIN:VEVENT
DTSTART;TZID=Pacific/Auckland:20260419T140000
DTEND;TZID=Pacific/Auckland:20260419T160000
DTSTAMP:20260422T140544
CREATED:20260405T100513Z
LAST-MODIFIED:20260405T100513Z
UID:3837-1776607200-1776614400@waiukuzerowaste.co.nz
SUMMARY:Waiuku Predator Trap Library
DESCRIPTION:Visit the Waiuku Trap Library to borrow predator control equipment\, get hands-on advice\, and set yourself up for effective trapping and baiting.\n\nDrop in to learn about the right tools (including bait stations)\, placement tips\, and how to stay effective in year round.\n\n𝗪𝗮𝗶𝘂𝗸𝘂 𝗭𝗲𝗿𝗼 𝗪𝗮𝘀𝘁𝗲 – 𝟱 𝗛𝗼𝘀𝗸𝗶𝗻𝗴 𝗣𝗹𝗮𝗰𝗲\, 𝗪𝗮𝗶𝘂𝗸𝘂𝗧𝗵𝗶𝗿𝗱 𝗦𝘂𝗻𝗱𝗮𝘆 𝗼𝗳 𝗲𝗮𝗰𝗵 𝗠𝗼𝗻𝘁𝗵\, 𝟮–𝟰𝗽𝗺\n\nBrowse our inventory here: https://waiukutraplibrary.myturn.com/library/\n\nThe Waiuku Predator Trap Library is a Sustainable Waiuku initiative\, set up to remove entry barriers for locals to get into predator control. They are open the third Sunday of every month (except December).
URL:https://waiukuzerowaste.co.nz/event/waiuku-predator-trap-library/
LOCATION:Waiuku Zero Waste Education Space\, 5 Hosking Place\, Waiuku\, 2123
CATEGORIES:Community Event,Trap Library
ATTACH;FMTTYPE=image/jpeg:https://waiukuzerowaste.co.nz/wp-content/uploads/2026/04/Waiuku-Trap-Library-Banner.jpg
END:VEVENT
BEGIN:VEVENT
DTSTART;TZID=Pacific/Auckland:20260419T103000
DTEND;TZID=Pacific/Auckland:20260419T120000
DTSTAMP:20260422T140544
CREATED:20260405T091221Z
LAST-MODIFIED:20260416T023951Z
UID:3796-1776594600-1776600000@waiukuzerowaste.co.nz
SUMMARY:Introduction to Composting Workshop
DESCRIPTION:Join Sue from the Compost Collective at Waiuku Zero Waste this April\, for an Introduction to Composting Workshop.\n\nDiscover the three most common and easy composting systems that can be used in the home and garden;\n– Traditional cold composting bins\n– Worm farms\n– Bokashi buckets\n\nCome and discover how easy it is and what suits you best!\n\nTo help you on your way\, all workshop participants get a 50% discount voucher to order a compost system through our website and we’ll deliver it straight to your door.\n\nWhile this event is free\, booking is essential: https://compostcollective.org.nz/events/free-introduction-to-composting-workshop-waiuku/https://compostcollective.org.nz/…/free-introduction…/\n\nThis workshop is part of EcoFest 2026\, a month-long celebration of Tāmaki Makaurau’s unique environment and the ways we care for it.\nThis workshop is proudly supported by Auckland Council\, Waiuku Zero Waste and delivered by the Compost Collective.
URL:https://waiukuzerowaste.co.nz/event/introduction-to-composting-workshop/
LOCATION:Waiuku Zero Waste Education Space\, 5 Hosking Place\, Waiuku\, 2123
CATEGORIES:Free Workshop
ATTACH;FMTTYPE=image/png:https://waiukuzerowaste.co.nz/wp-content/uploads/2026/04/composting-workshop-cover-rescheduled.png
ORGANIZER;CN="Waiuku Zero Waste Ltd":MAILTO:admin@waiukuzerowaste.co.nz
END:VEVENT
BEGIN:VEVENT
DTSTART;TZID=Pacific/Auckland:20260418T130000
DTEND;TZID=Pacific/Auckland:20260418T143000
DTSTAMP:20260422T140544
CREATED:20260405T093339Z
LAST-MODIFIED:20260405T093339Z
UID:3813-1776517200-1776522600@waiukuzerowaste.co.nz
SUMMARY:Sustainable Art Substrates and Processes
DESCRIPTION:Join us to explore options for more sustainable substrates\, materials and processes that we can use in our art making. \nPresented by Franklin Arts Centre and supported by Waiuku Zero Waste\, we will look at a range of substrates collected at their facility and how to prepare them for making art. \nWe will look at a range of sustainable practices for working\, selecting materials and cleaning equipment. \nCome ready to explore new surfaces and share your favourite sustainable art practices and habits with the group.
URL:https://waiukuzerowaste.co.nz/event/sustainable-art-substrates-and-processes/
LOCATION:Waiuku Zero Waste Education Space\, 5 Hosking Place\, Waiuku\, 2123
CATEGORIES:Free Workshop
ATTACH;FMTTYPE=image/png:https://waiukuzerowaste.co.nz/wp-content/uploads/2026/04/Sustainable-Arts-Substrates-workshop-facebook-cover.png
ORGANIZER;CN="Waiuku Zero Waste Ltd":MAILTO:admin@waiukuzerowaste.co.nz
END:VEVENT
BEGIN:VEVENT
DTSTART;TZID=Pacific/Auckland:20260416T110000
DTEND;TZID=Pacific/Auckland:20260416T143000
DTSTAMP:20260422T140544
CREATED:20260405T092622Z
LAST-MODIFIED:20260405T092622Z
UID:3809-1776337200-1776349800@waiukuzerowaste.co.nz
SUMMARY:Ecofest School Holiday Programme @ Beachlands Memorial Hall
DESCRIPTION:Come down to the Beachlands Memorial Hall and see the Franklin Community Hub team & Waiuku Zero Waste and have a go at some fun Eco Fest crafts.
URL:https://waiukuzerowaste.co.nz/event/ecofest-school-holiday-programme-beachlands-memorial-hall/
LOCATION:Beachlands Memorial Hall\, 49 Wakelin Road\, Beachlands\, 2018
CATEGORIES:Kids Activity,School Holidays
ATTACH;FMTTYPE=image/jpeg:https://waiukuzerowaste.co.nz/wp-content/uploads/2026/04/Ecofest-School-Holiday-Programme.jpg
ORGANIZER;CN="Pukekohe Library":MAILTO:pukekohe.library@aucklandcouncil.govt.nz
END:VEVENT
BEGIN:VEVENT
DTSTART;TZID=Pacific/Auckland:20260415T100000
DTEND;TZID=Pacific/Auckland:20260415T120000
DTSTAMP:20260422T140544
CREATED:20260405T092105Z
LAST-MODIFIED:20260405T092227Z
UID:3802-1776247200-1776254400@waiukuzerowaste.co.nz
SUMMARY:Ecofest School Holiday Programme @ Awhitu District School
DESCRIPTION:Come and see the Franklin Community Hub team and Waiuku Zero Waste in the school pavilion and have a go at some fun Eco Fest crafts.
URL:https://waiukuzerowaste.co.nz/event/awhituecofest/
LOCATION:Awhitu District School\, Matakawau Road\, Awhitu\, 2684
CATEGORIES:Kids Activity,School Holidays
ATTACH;FMTTYPE=image/jpeg:https://waiukuzerowaste.co.nz/wp-content/uploads/2026/04/Ecofest-School-Holiday-Programme.jpg
ORGANIZER;CN="Waiuku Zero Waste Ltd":MAILTO:admin@waiukuzerowaste.co.nz
END:VEVENT
BEGIN:VEVENT
DTSTART;TZID=Pacific/Auckland:20260410T103000
DTEND;TZID=Pacific/Auckland:20260410T113000
DTSTAMP:20260422T140544
CREATED:20260405T090015Z
LAST-MODIFIED:20260405T090049Z
UID:3785-1775817000-1775820600@waiukuzerowaste.co.nz
SUMMARY:Waiuku Zero Waste T-Shirt Craft - Ecofest School Holiday Programme @ Pukekohe Library
DESCRIPTION:Turn your old t-shirt into a cute bag for all your things!\nJoin Sandy from Waiuku Zero Waste as she teaches you all the ways you can recycle and repurpose old t-shirts\, giving them a new life as a cute tote bag.
URL:https://waiukuzerowaste.co.nz/event/waiuku-zero-waste-t-shirt-craft-ecofest-school-holiday-programme/
LOCATION:Pukekohe Library\, 12 Massey Ave\, Pukekohe\, 2120
CATEGORIES:Kids Activity,School Holidays
ATTACH;FMTTYPE=image/png:https://waiukuzerowaste.co.nz/wp-content/uploads/2026/04/tshirt-craft-workshop-facebook-cover-pukekohe.png
ORGANIZER;CN="Waiuku Zero Waste Ltd":MAILTO:admin@waiukuzerowaste.co.nz
END:VEVENT
BEGIN:VEVENT
DTSTART;TZID=Pacific/Auckland:20260409T103000
DTEND;TZID=Pacific/Auckland:20260409T113000
DTSTAMP:20260422T140544
CREATED:20260405T084401Z
LAST-MODIFIED:20260405T090233Z
UID:3770-1775730600-1775734200@waiukuzerowaste.co.nz
SUMMARY:Waiuku Zero Waste T-Shirt Crafts - Ecofest School Holiday Programme @ Waiuku Library
DESCRIPTION:Turn your old t-shirt into a cute bag for all your things!\n\nJoin Sandy from Waiuku Zero Waste as she teaches you all the ways you can recycle and repurpose old t-shirts\, giving them a new life as a cute tote bag.
URL:https://waiukuzerowaste.co.nz/event/waiuku-zero-waste-t-shirt-crafts-ecofest-school-holiday-programme/
LOCATION:Waiuku Library\, 10 King Street\, Waiuku\, 2123
CATEGORIES:Kids Activity,School Holidays
ATTACH;FMTTYPE=image/png:https://waiukuzerowaste.co.nz/wp-content/uploads/2026/04/tshirt-craft-workshop-facebook-cover-waiuku.png
ORGANIZER;CN="Waiuku Zero Waste Ltd":MAILTO:admin@waiukuzerowaste.co.nz
END:VEVENT
END:VCALENDAR